BEGIN:VCALENDAR
VERSION:2.0
PRODID:-//NADI Felda Redong 1 - ECPv6.15.20//NONSGML v1.0//EN
CALSCALE:GREGORIAN
METHOD:PUBLISH
X-WR-CALNAME:NADI Felda Redong 1
X-ORIGINAL-URL:https://feldaredong1.nadi.my
X-WR-CALDESC:Events for NADI Felda Redong 1
REFRESH-INTERVAL;VALUE=DURATION:PT1H
X-Robots-Tag:noindex
X-PUBLISHED-TTL:PT1H
BEGIN:VTIMEZONE
TZID:Asia/Kuala_Lumpur
BEGIN:STANDARD
TZOFFSETFROM:+0800
TZOFFSETTO:+0800
TZNAME:+08
DTSTART:20250101T000000
END:STANDARD
END:VTIMEZONE
BEGIN:VEVENT
DTSTART;TZID=Asia/Kuala_Lumpur:20260206T080000
DTEND;TZID=Asia/Kuala_Lumpur:20260208T170000
DTSTAMP:20260424T211702
CREATED:20260206T025046Z
LAST-MODIFIED:20260206T025046Z
UID:6189-1770364800-1770570000@feldaredong1.nadi.my
SUMMARY:Esport: Kesihatan Fizikal Pemain E-Sukan
DESCRIPTION:
URL:https://feldaredong1.nadi.my/event/esport-kesihatan-fizikal-pemain-e-sukan/
END:VEVENT
BEGIN:VEVENT
DTSTART;TZID=Asia/Kuala_Lumpur:20260207T100000
DTEND;TZID=Asia/Kuala_Lumpur:20260207T110000
DTSTAMP:20260424T211702
CREATED:20260206T025157Z
LAST-MODIFIED:20260206T025157Z
UID:6191-1770458400-1770462000@feldaredong1.nadi.my
SUMMARY:Kidsventure: Webinar Operasi Perniagaan
DESCRIPTION:
URL:https://feldaredong1.nadi.my/event/kidsventure-webinar-operasi-perniagaan/
END:VEVENT
BEGIN:VEVENT
DTSTART;TZID=Asia/Kuala_Lumpur:20260207T100000
DTEND;TZID=Asia/Kuala_Lumpur:20260207T110000
DTSTAMP:20260424T211702
CREATED:20260206T025225Z
LAST-MODIFIED:20260206T025225Z
UID:6193-1770458400-1770462000@feldaredong1.nadi.my
SUMMARY:KIS: Dunia Digital Tanggungjawab Nyata
DESCRIPTION:
URL:https://feldaredong1.nadi.my/event/kis-dunia-digital-tanggungjawab-nyata/
END:VEVENT
BEGIN:VEVENT
DTSTART;TZID=Asia/Kuala_Lumpur:20260207T140000
DTEND;TZID=Asia/Kuala_Lumpur:20260207T150000
DTSTAMP:20260424T211702
CREATED:20260206T025301Z
LAST-MODIFIED:20260206T025301Z
UID:6195-1770472800-1770476400@feldaredong1.nadi.my
SUMMARY:Tiny Techies: Ulangkaji Siri 2
DESCRIPTION:
URL:https://feldaredong1.nadi.my/event/tiny-techies-ulangkaji-siri-2/
END:VEVENT
BEGIN:VEVENT
DTSTART;VALUE=DATE:20260208
DTEND;VALUE=DATE:20260209
DTSTAMP:20260424T211702
CREATED:20260206T025323Z
LAST-MODIFIED:20260206T025323Z
UID:6197-1770508800-1770595199@feldaredong1.nadi.my
SUMMARY:Dilea EP: Lesson 24
DESCRIPTION:
URL:https://feldaredong1.nadi.my/event/dilea-ep-lesson-24/
END:VEVENT
BEGIN:VEVENT
DTSTART;VALUE=DATE:20260209
DTEND;VALUE=DATE:20260210
DTSTAMP:20260424T211702
CREATED:20260206T025432Z
LAST-MODIFIED:20260206T025432Z
UID:6199-1770595200-1770681599@feldaredong1.nadi.my
SUMMARY:Kidsventure: Rakaman Webinar & Vid Pembelajaran Ops Niaga
DESCRIPTION:
URL:https://feldaredong1.nadi.my/event/kidsventure-rakaman-webinar-vid-pembelajaran-ops-niaga/
END:VEVENT
BEGIN:VEVENT
DTSTART;TZID=Asia/Kuala_Lumpur:20260209T153000
DTEND;TZID=Asia/Kuala_Lumpur:20260209T163000
DTSTAMP:20260424T211702
CREATED:20260206T025559Z
LAST-MODIFIED:20260206T025559Z
UID:6201-1770651000-1770654600@feldaredong1.nadi.my
SUMMARY:Dilea LC: Matematik Tingkatan 4
DESCRIPTION:
URL:https://feldaredong1.nadi.my/event/dilea-lc-matematik-tingkatan-4/
END:VEVENT
BEGIN:VEVENT
DTSTART;TZID=Asia/Kuala_Lumpur:20260212T150000
DTEND;TZID=Asia/Kuala_Lumpur:20260212T163000
DTSTAMP:20260424T211702
CREATED:20260206T030028Z
LAST-MODIFIED:20260206T030028Z
UID:6203-1770908400-1770913800@feldaredong1.nadi.my
SUMMARY:Cybersecurity: Cara Kenal Pasti Fail Berbentuk Virus
DESCRIPTION:
URL:https://feldaredong1.nadi.my/event/cybersecurity-cara-kenal-pasti-fail-berbentuk-virus/
END:VEVENT
BEGIN:VEVENT
DTSTART;TZID=Asia/Kuala_Lumpur:20260221T100000
DTEND;TZID=Asia/Kuala_Lumpur:20260221T110000
DTSTAMP:20260424T211702
CREATED:20260206T030118Z
LAST-MODIFIED:20260206T030118Z
UID:6205-1771668000-1771671600@feldaredong1.nadi.my
SUMMARY:Kidsventure: Webinar Pemasaran 1
DESCRIPTION:
URL:https://feldaredong1.nadi.my/event/kidsventure-webinar-pemasaran-1/
END:VEVENT
END:VCALENDAR