BEGIN:VCALENDAR
VERSION:2.0
PRODID:-//NADI Felda Redong 1 - ECPv6.15.20//NONSGML v1.0//EN
CALSCALE:GREGORIAN
METHOD:PUBLISH
X-WR-CALNAME:NADI Felda Redong 1
X-ORIGINAL-URL:https://feldaredong1.nadi.my
X-WR-CALDESC:Events for NADI Felda Redong 1
REFRESH-INTERVAL;VALUE=DURATION:PT1H
X-Robots-Tag:noindex
X-PUBLISHED-TTL:PT1H
BEGIN:VTIMEZONE
TZID:Asia/Kuala_Lumpur
BEGIN:STANDARD
TZOFFSETFROM:+0800
TZOFFSETTO:+0800
TZNAME:+08
DTSTART:20250101T000000
END:STANDARD
END:VTIMEZONE
BEGIN:VEVENT
DTSTART;VALUE=DATE:20260427
DTEND;VALUE=DATE:20260428
DTSTAMP:20260421T154443
CREATED:20260403T032921Z
LAST-MODIFIED:20260403T032921Z
UID:6378-1777248000-1777334399@feldaredong1.nadi.my
SUMMARY:Dilea VOD Sesi 39
DESCRIPTION:
URL:https://feldaredong1.nadi.my/event/dilea-vod-sesi-39/
END:VEVENT
END:VCALENDAR