BEGIN:VCALENDAR
VERSION:2.0
PRODID:-//NADI Felda Redong 1 - ECPv6.15.20//NONSGML v1.0//EN
CALSCALE:GREGORIAN
METHOD:PUBLISH
X-WR-CALNAME:NADI Felda Redong 1
X-ORIGINAL-URL:https://feldaredong1.nadi.my
X-WR-CALDESC:Events for NADI Felda Redong 1
REFRESH-INTERVAL;VALUE=DURATION:PT1H
X-Robots-Tag:noindex
X-PUBLISHED-TTL:PT1H
BEGIN:VTIMEZONE
TZID:Asia/Kuala_Lumpur
BEGIN:STANDARD
TZOFFSETFROM:+0800
TZOFFSETTO:+0800
TZNAME:+08
DTSTART:20250101T000000
END:STANDARD
END:VTIMEZONE
BEGIN:VEVENT
DTSTART;TZID=Asia/Kuala_Lumpur:20260423T140000
DTEND;TZID=Asia/Kuala_Lumpur:20260423T170000
DTSTAMP:20260421T154513
CREATED:20260403T032825Z
LAST-MODIFIED:20260403T032825Z
UID:6376-1776952800-1776963600@feldaredong1.nadi.my
SUMMARY:Empowerher/Entrepreneur: Live Webinar P. Kewangan
DESCRIPTION:
URL:https://feldaredong1.nadi.my/event/empowerher-entrepreneur-live-webinar-p-kewangan/
END:VEVENT
END:VCALENDAR