BEGIN:VCALENDAR
VERSION:2.0
PRODID:-//NADI Felda Redong 1 - ECPv6.15.20//NONSGML v1.0//EN
CALSCALE:GREGORIAN
METHOD:PUBLISH
X-WR-CALNAME:NADI Felda Redong 1
X-ORIGINAL-URL:https://feldaredong1.nadi.my
X-WR-CALDESC:Events for NADI Felda Redong 1
REFRESH-INTERVAL;VALUE=DURATION:PT1H
X-Robots-Tag:noindex
X-PUBLISHED-TTL:PT1H
BEGIN:VTIMEZONE
TZID:Asia/Kuala_Lumpur
BEGIN:STANDARD
TZOFFSETFROM:+0800
TZOFFSETTO:+0800
TZNAME:+08
DTSTART:20250101T000000
END:STANDARD
END:VTIMEZONE
BEGIN:VEVENT
DTSTART;TZID=Asia/Kuala_Lumpur:20260418T140000
DTEND;TZID=Asia/Kuala_Lumpur:20260418T150000
DTSTAMP:20260421T154523
CREATED:20260403T023517Z
LAST-MODIFIED:20260403T023517Z
UID:6362-1776520800-1776524400@feldaredong1.nadi.my
SUMMARY:Dilea T5: Sejarah
DESCRIPTION:
URL:https://feldaredong1.nadi.my/event/dilea-t5-sejarah/
END:VEVENT
BEGIN:VEVENT
DTSTART;TZID=Asia/Kuala_Lumpur:20260418T153000
DTEND;TZID=Asia/Kuala_Lumpur:20260418T163000
DTSTAMP:20260421T154523
CREATED:20260403T023609Z
LAST-MODIFIED:20260403T023609Z
UID:6364-1776526200-1776529800@feldaredong1.nadi.my
SUMMARY:Dilea T5: Matematik
DESCRIPTION:
URL:https://feldaredong1.nadi.my/event/dilea-t5-matematik/
END:VEVENT
END:VCALENDAR