BEGIN:VCALENDAR
VERSION:2.0
PRODID:-//NADI Felda Redong 1 - ECPv6.15.20//NONSGML v1.0//EN
CALSCALE:GREGORIAN
METHOD:PUBLISH
X-ORIGINAL-URL:https://feldaredong1.nadi.my
X-WR-CALDESC:Events for NADI Felda Redong 1
REFRESH-INTERVAL;VALUE=DURATION:PT1H
X-Robots-Tag:noindex
X-PUBLISHED-TTL:PT1H
BEGIN:VTIMEZONE
TZID:Asia/Kuala_Lumpur
BEGIN:STANDARD
TZOFFSETFROM:+0800
TZOFFSETTO:+0800
TZNAME:+08
DTSTART:20250101T000000
END:STANDARD
END:VTIMEZONE
BEGIN:VEVENT
DTSTART;VALUE=DATE:20260413
DTEND;VALUE=DATE:20260414
DTSTAMP:20260421T115029
CREATED:20260403T022923Z
LAST-MODIFIED:20260403T022923Z
UID:6350-1776038400-1776124799@feldaredong1.nadi.my
SUMMARY:Dilea VOD Sesi 37
DESCRIPTION:
URL:https://feldaredong1.nadi.my/event/dilea-vod-sesi-37/
END:VEVENT
BEGIN:VEVENT
DTSTART;TZID=Asia/Kuala_Lumpur:20260413T153000
DTEND;TZID=Asia/Kuala_Lumpur:20260413T163000
DTSTAMP:20260421T115029
CREATED:20260403T022951Z
LAST-MODIFIED:20260403T022951Z
UID:6352-1776094200-1776097800@feldaredong1.nadi.my
SUMMARY:Dilea OT: Sejarah
DESCRIPTION:
URL:https://feldaredong1.nadi.my/event/dilea-ot-sejarah/
END:VEVENT
END:VCALENDAR