BEGIN:VCALENDAR
VERSION:2.0
PRODID:-//NADI Felda Redong 1 - ECPv6.15.20//NONSGML v1.0//EN
CALSCALE:GREGORIAN
METHOD:PUBLISH
X-ORIGINAL-URL:https://feldaredong1.nadi.my
X-WR-CALDESC:Events for NADI Felda Redong 1
REFRESH-INTERVAL;VALUE=DURATION:PT1H
X-Robots-Tag:noindex
X-PUBLISHED-TTL:PT1H
BEGIN:VTIMEZONE
TZID:Asia/Kuala_Lumpur
BEGIN:STANDARD
TZOFFSETFROM:+0800
TZOFFSETTO:+0800
TZNAME:+08
DTSTART:20250101T000000
END:STANDARD
END:VTIMEZONE
BEGIN:VEVENT
DTSTART;VALUE=DATE:20260406
DTEND;VALUE=DATE:20260407
DTSTAMP:20260424T050315
CREATED:20260403T022022Z
LAST-MODIFIED:20260403T022022Z
UID:6324-1775433600-1775519999@feldaredong1.nadi.my
SUMMARY:Dilea EP: Lesson 28
DESCRIPTION:
URL:https://feldaredong1.nadi.my/event/dilea-ep-lesson-28/
END:VEVENT
BEGIN:VEVENT
DTSTART;TZID=Asia/Kuala_Lumpur:20260406T153000
DTEND;TZID=Asia/Kuala_Lumpur:20260406T163000
DTSTAMP:20260424T050315
CREATED:20260403T022050Z
LAST-MODIFIED:20260403T022050Z
UID:6326-1775489400-1775493000@feldaredong1.nadi.my
SUMMARY:Dilea T4: Matematik
DESCRIPTION:
URL:https://feldaredong1.nadi.my/event/dilea-t4-matematik/
END:VEVENT
BEGIN:VEVENT
DTSTART;TZID=Asia/Kuala_Lumpur:20260406T153000
DTEND;TZID=Asia/Kuala_Lumpur:20260406T163000
DTSTAMP:20260424T050315
CREATED:20260403T022119Z
LAST-MODIFIED:20260403T022119Z
UID:6328-1775489400-1775493000@feldaredong1.nadi.my
SUMMARY:Dilea OT: Matematik
DESCRIPTION:
URL:https://feldaredong1.nadi.my/event/dilea-ot-matematik/
END:VEVENT
END:VCALENDAR