BEGIN:VCALENDAR
VERSION:2.0
PRODID:-//NADI Felda Redong 1 - ECPv6.15.20//NONSGML v1.0//EN
CALSCALE:GREGORIAN
METHOD:PUBLISH
X-WR-CALNAME:NADI Felda Redong 1
X-ORIGINAL-URL:https://feldaredong1.nadi.my
X-WR-CALDESC:Events for NADI Felda Redong 1
REFRESH-INTERVAL;VALUE=DURATION:PT1H
X-Robots-Tag:noindex
X-PUBLISHED-TTL:PT1H
BEGIN:VTIMEZONE
TZID:Asia/Kuala_Lumpur
BEGIN:STANDARD
TZOFFSETFROM:+0800
TZOFFSETTO:+0800
TZNAME:+08
DTSTART:20250101T000000
END:STANDARD
END:VTIMEZONE
BEGIN:VEVENT
DTSTART;VALUE=DATE:20260405
DTEND;VALUE=DATE:20260406
DTSTAMP:20260421T154508
CREATED:20260403T020858Z
LAST-MODIFIED:20260403T020858Z
UID:6322-1775347200-1775433599@feldaredong1.nadi.my
SUMMARY:Dilea: VOD Lesson 35
DESCRIPTION:
URL:https://feldaredong1.nadi.my/event/dilea-vod-lesson-35/
END:VEVENT
BEGIN:VEVENT
DTSTART;TZID=Asia/Kuala_Lumpur:20260405T100000
DTEND;TZID=Asia/Kuala_Lumpur:20260405T110000
DTSTAMP:20260421T154508
CREATED:20260403T020810Z
LAST-MODIFIED:20260403T020810Z
UID:6320-1775383200-1775386800@feldaredong1.nadi.my
SUMMARY:KIS: Penjelajah Siber\, Elak Perangkap Digital
DESCRIPTION:
URL:https://feldaredong1.nadi.my/event/kis-penjelajah-siber-elak-perangkap-digital/
END:VEVENT
END:VCALENDAR