BEGIN:VCALENDAR
VERSION:2.0
PRODID:-//NADI Felda Redong 1 - ECPv6.15.20//NONSGML v1.0//EN
CALSCALE:GREGORIAN
METHOD:PUBLISH
X-WR-CALNAME:NADI Felda Redong 1
X-ORIGINAL-URL:https://feldaredong1.nadi.my
X-WR-CALDESC:Events for NADI Felda Redong 1
REFRESH-INTERVAL;VALUE=DURATION:PT1H
X-Robots-Tag:noindex
X-PUBLISHED-TTL:PT1H
BEGIN:VTIMEZONE
TZID:Asia/Kuala_Lumpur
BEGIN:STANDARD
TZOFFSETFROM:+0800
TZOFFSETTO:+0800
TZNAME:+08
DTSTART:20250101T000000
END:STANDARD
END:VTIMEZONE
BEGIN:VEVENT
DTSTART;VALUE=DATE:20260306
DTEND;VALUE=DATE:20260307
DTSTAMP:20260425T082444
CREATED:20260305T012345Z
LAST-MODIFIED:20260305T012345Z
UID:6253-1772755200-1772841599@feldaredong1.nadi.my
SUMMARY:Esukan: Peraturan\, Penalti & Fair Play Dalam MLBB
DESCRIPTION:
URL:https://feldaredong1.nadi.my/event/esukan-peraturan-penalti-fair-play-dalam-mlbb/
END:VEVENT
BEGIN:VEVENT
DTSTART;TZID=Asia/Kuala_Lumpur:20260306T100000
DTEND;TZID=Asia/Kuala_Lumpur:20260306T120000
DTSTAMP:20260425T082444
CREATED:20260305T012306Z
LAST-MODIFIED:20260305T012306Z
UID:6251-1772791200-1772798400@feldaredong1.nadi.my
SUMMARY:Mahir Masak: Portuguese Egg Tart
DESCRIPTION:
URL:https://feldaredong1.nadi.my/event/mahir-masak-portuguese-egg-tart/
END:VEVENT
END:VCALENDAR