BEGIN:VCALENDAR
VERSION:2.0
PRODID:-//NADI Felda Redong 1 - ECPv6.15.20//NONSGML v1.0//EN
CALSCALE:GREGORIAN
METHOD:PUBLISH
X-WR-CALNAME:NADI Felda Redong 1
X-ORIGINAL-URL:https://feldaredong1.nadi.my
X-WR-CALDESC:Events for NADI Felda Redong 1
REFRESH-INTERVAL;VALUE=DURATION:PT1H
X-Robots-Tag:noindex
X-PUBLISHED-TTL:PT1H
BEGIN:VTIMEZONE
TZID:Asia/Kuala_Lumpur
BEGIN:STANDARD
TZOFFSETFROM:+0800
TZOFFSETTO:+0800
TZNAME:+08
DTSTART:20250101T000000
END:STANDARD
END:VTIMEZONE
BEGIN:VEVENT
DTSTART;TZID=Asia/Kuala_Lumpur:20260305T103000
DTEND;TZID=Asia/Kuala_Lumpur:20260305T123000
DTSTAMP:20260423T191152
CREATED:20260305T012152Z
LAST-MODIFIED:20260305T012152Z
UID:6247-1772706600-1772713800@feldaredong1.nadi.my
SUMMARY:Mahir Jahit: Fashion Styling w Wawa Idris
DESCRIPTION:
URL:https://feldaredong1.nadi.my/event/mahir-jahit-fashion-styling-w-wawa-idris/
END:VEVENT
BEGIN:VEVENT
DTSTART;TZID=Asia/Kuala_Lumpur:20260305T140000
DTEND;TZID=Asia/Kuala_Lumpur:20260305T153000
DTSTAMP:20260423T191152
CREATED:20260305T012228Z
LAST-MODIFIED:20260305T012228Z
UID:6249-1772719200-1772724600@feldaredong1.nadi.my
SUMMARY:Cybersecurity: Bahaya Serangan Malware
DESCRIPTION:
URL:https://feldaredong1.nadi.my/event/cybersecurity-bahaya-serangan-malware/
END:VEVENT
END:VCALENDAR